BEGIN:VCALENDAR
VERSION:2.0
PRODID:-//Fly Right Ministry - ECPv6.15.20//NONSGML v1.0//EN
CALSCALE:GREGORIAN
METHOD:PUBLISH
X-WR-CALNAME:Fly Right Ministry
X-ORIGINAL-URL:https://flyright.org
X-WR-CALDESC:Events for Fly Right Ministry
REFRESH-INTERVAL;VALUE=DURATION:PT1H
X-Robots-Tag:noindex
X-PUBLISHED-TTL:PT1H
BEGIN:VTIMEZONE
TZID:America/Chicago
BEGIN:DAYLIGHT
TZOFFSETFROM:-0600
TZOFFSETTO:-0500
TZNAME:CDT
DTSTART:20250309T080000
END:DAYLIGHT
BEGIN:STANDARD
TZOFFSETFROM:-0500
TZOFFSETTO:-0600
TZNAME:CST
DTSTART:20251102T070000
END:STANDARD
BEGIN:DAYLIGHT
TZOFFSETFROM:-0600
TZOFFSETTO:-0500
TZNAME:CDT
DTSTART:20260308T080000
END:DAYLIGHT
BEGIN:STANDARD
TZOFFSETFROM:-0500
TZOFFSETTO:-0600
TZNAME:CST
DTSTART:20261101T070000
END:STANDARD
BEGIN:DAYLIGHT
TZOFFSETFROM:-0600
TZOFFSETTO:-0500
TZNAME:CDT
DTSTART:20270314T080000
END:DAYLIGHT
BEGIN:STANDARD
TZOFFSETFROM:-0500
TZOFFSETTO:-0600
TZNAME:CST
DTSTART:20271107T070000
END:STANDARD
END:VTIMEZONE
BEGIN:VEVENT
DTSTART;TZID=America/Chicago:20260324T180000
DTEND;TZID=America/Chicago:20260324T203000
DTSTAMP:20260421T203102
CREATED:20260123T031107Z
LAST-MODIFIED:20260222T183228Z
UID:18129-1774375200-1774384200@flyright.org
SUMMARY:Join Us for the Fly Right Ministry Fundraiser!
DESCRIPTION:March 24\, 2026 – Help Change Lives Through Faith & Outreach\nREGISTRATION REQUIRED\n\n	\n						\n		\n\n			\n	\n\n			\n	\n	\n				\n					\n	\n\n\n			\n	\n	Come Join Fly Right Ministry for an evening of dinner\, fun\, fellowship\, a silent auction\, and a demonstration of how our volunteers use the ministry tract to witness to inmates.\n\n\n			\n							Register Now!\n					\n	\n\n\n			\n	\n	\n				\n					\n	\n\n\n	\n\n\n	\n		\n	\n\n \nFly Right\, Inc. is a Christian faith-based non-profit charity. We exist to share the hope of Jesus Christ and bring lasting change to individuals in prisons\, jails\, and our communities. Through entertainment\, powerful testimony\, compassionate outreach\, and community support\, we are committed to changing lives\, bringing hope where it is needed most\, and reducing recidivism. Our volunteers are evangelists who care about souls and where they will spend eternity. \nWe’re hosting a special fundraiser on March 24\, 2026\, and you’re invited! Register now to secure your spot — limited space only. Your participation helps further ministry efforts and support programming throughout the year. \nYour support is needed to continue sharing the Gospel of Jesus Christ\, bringing hope and love to people living in very dark places\, making a real difference in individuals and communities\, and funding our outreach programming throughout the year. Every ministry incurs a cost. Please help us continue to reach souls for Jesus Christ! \nFor I was hungry and you gave me something to eat\, I was thirsty\, and you gave me something to drink\, I was a stranger\, and you invited me in\, I needed clothes\, and you clothed me\, I was sick\, and you looked after me\, I was in prison\, and you came to visit me.”  Matthew 25:35-36   “Truly\, I tell you\, whatever you did for one of the least of these my brothers and sisters of mine\, you did for me. — Matthew 25:40 \n\n	\n						\n		\n\n			\n	\n	\n		\n	\n				\n			\n	\n				\n					\n	\n		\n				\n			\n	\n				\n					\n	\n		\n				\n			\n	\n				\n					\n	\n		\n				\n			\n	\n				\n					\n	\n		\n			\n	\n\n	\n\n\n\n	\n		\n	\n\n \nEvent Details\n\n📅 Date/Time: Tuesday\, March 24\, 2026 – 6:00pm to 8:30pm\n📍 Location: Upstate Church Haywood\, 2331 Laurens Road\, Greenville\, SC 29607\n🎟️ Registration Fee: $50 per person\n💖 Optional Donation: Add any additional gift to support our mission\n\nDoors open at 5:30pm\, Dinner is at 6:00pm. \nFor more information\, call Jerrilyn Johnson at 864-363-2987. \n\nRegister Now\nPlease fill out your info below — we do not require account creation. After submitting\, you’ll receive an email confirming your registration\, and Fly Right Ministry will receive a notification too. \nAnd if you can’t attend\, you may still make a donation; simply register with 0 tickets requested and fill in your donation amount! \n\n\n                \n                        Contact DetailsName(Required)\n                            \n                            \n                                                    First\n                                                    \n                                                \n                            \n                            \n                                                            Last\n                                                            \n                                                        \n                            \n                        Email(Required)\n                                \n                                    Enter Email\n                                    \n                                \n                                \n                                    Confirm Email\n                                    \n                                \n                                \n                            Phone(Required)Address(Required)    \n                    \n                         \n                                        Street Address\n                                        \n                                   \n                                        Address Line 2\n                                        \n                                    \n                                    City\n                                    \n                                 \n                                        State / Province / Region\n                                        \n                                      \n                                    ZIP / Postal Code\n                                    \n                                \n                    \n                How did you hear about this event?Social MediaOnline SearchWord of MouthFrom a FriendPast ParticipantOtherPayment DetailsTicket Type\n			\n					\n					Premium Ticket ($50)\n			Number of tickets neededAdditional Donation Amount (optional)\n					\n				Total\n							\n						Credit Card
URL:https://flyright.org/event/fundraiser-2026/
LOCATION:Upstate Church Haywood\, 2331 Laurens Road\, Greenville\, SC\, 29607\, United States
CATEGORIES:fundraiser
ATTACH;FMTTYPE=image/jpeg:https://flyright.org/wp-content/uploads/2019/10/group-picture-from-mccormick.jpeg
END:VEVENT
END:VCALENDAR